BEGIN:VCALENDAR
VERSION:2.0
PRODID:-//SOS Forêt Dordogne - ECPv6.15.20//NONSGML v1.0//EN
CALSCALE:GREGORIAN
METHOD:PUBLISH
X-ORIGINAL-URL:https://sosforetdordogne.fr
X-WR-CALDESC:Évènements pour SOS Forêt Dordogne
REFRESH-INTERVAL;VALUE=DURATION:PT1H
X-Robots-Tag:noindex
X-PUBLISHED-TTL:PT1H
BEGIN:VTIMEZONE
TZID:UTC
BEGIN:STANDARD
TZOFFSETFROM:+0000
TZOFFSETTO:+0000
TZNAME:UTC
DTSTART:20250101T000000
END:STANDARD
END:VTIMEZONE
BEGIN:VEVENT
DTSTART;VALUE=DATE:20260425
DTEND;VALUE=DATE:20260426
DTSTAMP:20260424T162144
CREATED:20260331T143543Z
LAST-MODIFIED:20260331T143543Z
UID:6294-1777075200-1777161599@sosforetdordogne.fr
SUMMARY:Le 25 avril 2026\, c'est notre Assemblée Générale !
DESCRIPTION:Nous comptons sur la participation de nos adhérents : c’est un moment très important de la vie associative qui se joue là ! Plus nombreux vous serez présents\, plus notre représentativité sera légitime ! \nAu programme\, une proposition de modification des statuts lors d’une Assemblée Générale Extraordinaire puis\, plus classiquement\, le bilan de nos actions et la construction collective de nos orientations à venir. \nEt n’oubliez pas : on réfléchit mieux à plusieurs !
URL:https://sosforetdordogne.fr/evenement/le-25-avril-2026-cest-notre-assemblee-generale
LOCATION:Le Silot halle 2\, 68 bis\, avenue de Lattre de Tassigny\, COULOUNIEIX-CHAMIERS\, 24660\, France
ORGANIZER;CN="SOS For%C3%AAt Dordogne":MAILTO:dordogne@sosforetfrance.org
END:VEVENT
BEGIN:VEVENT
DTSTART;TZID=UTC:20260425T100000
DTEND;TZID=UTC:20260425T120000
DTSTAMP:20260424T162144
CREATED:20260331T144345Z
LAST-MODIFIED:20260331T145639Z
UID:6297-1777111200-1777118400@sosforetdordogne.fr
SUMMARY:Réunion publique : Les coupes rases en Dordogne\, vues du ciel et de la Terre
DESCRIPTION:Ou « Comment les données satellites nous aident à mesurer l’ampleur de cette pratique »… \nVoilà plusieurs années que nous avons lancé une action « photographies géolocalisées des coupes rases » afin d’objectiver cette pratique délétère et de pouvoir témoigner leur existence réelle. \nL’étude SUFOSAT et le récent rapport de Canopée sur l’étendue des coupes rases sur le territoire métropolitain sont venus renforcer – plus que nos convictions – nos connaissances sur ce sujet. \nCette réunion publique sera l’occasion de partager nos données avec le plus grand nombre : \nvous êtes choqué.es par le nombre de plus en plus grand de coupes rases ? Venez vous informer ! \nET si cela vous a donné envie de nous rejoindre\, les adhésions sont ouvertes jusqu’en début d’AG: venez donc adhérer à partir de 13h30 ! Cela vous permettra peut-être de prendre part à notre auberge espagnole et de poursuivre les discussions dans une ambiance conviviale !
URL:https://sosforetdordogne.fr/evenement/reunion-publique-les-coupes-rases-en-dordogne-vues-du-ciel-et-de-la-terre
LOCATION:Le Silot halle 2\, 68 bis\, avenue de Lattre de Tassigny\, COULOUNIEIX-CHAMIERS\, 24660\, France
ORGANIZER;CN="SOS For%C3%AAt Dordogne":MAILTO:dordogne@sosforetfrance.org
END:VEVENT
BEGIN:VEVENT
DTSTART;VALUE=DATE:20260501
DTEND;VALUE=DATE:20260502
DTSTAMP:20260424T162144
CREATED:20260422T090952Z
LAST-MODIFIED:20260422T090952Z
UID:6411-1777593600-1777679999@sosforetdordogne.fr
SUMMARY:Fête des fleurs et des Fées à la Chapelle Gonaguet : SOS Forêt Dordogne y sera !
DESCRIPTION:  \nVenez nous retrouver sur notre stand ! Vous pourrez mieux comprendre la problématique des coupes rases\, vous documenter\, échanger…
URL:https://sosforetdordogne.fr/evenement/fete-des-fleurs-et-des-fees-a-la-chapelle-gonaguet-sos-foret-dordogne-y-sera
LOCATION:Ball Trap à la Chapelle Gonaguet\, rue des Places\, LA CHAPELLE GONAGUET\, 24350\, France
END:VEVENT
BEGIN:VEVENT
DTSTART;TZID=UTC:20260502T100000
DTEND;TZID=UTC:20260502T170000
DTSTAMP:20260424T162144
CREATED:20260324T133231Z
LAST-MODIFIED:20260324T133231Z
UID:6271-1777716000-1777741200@sosforetdordogne.fr
SUMMARY:Fête des Plantes à Bourdeilles
DESCRIPTION:
URL:https://sosforetdordogne.fr/evenement/fete-des-plantes-a-bourdeilles-3
LOCATION:La Goueynie\, 449 route du Breuil\, BOURDEILLES\, 24310\, France
END:VEVENT
BEGIN:VEVENT
DTSTART;TZID=UTC:20260509T090000
DTEND;TZID=UTC:20260509T170000
DTSTAMP:20260424T162144
CREATED:20260416T143222Z
LAST-MODIFIED:20260416T143425Z
UID:6396-1778317200-1778346000@sosforetdordogne.fr
SUMMARY:Vieilles forêts et quelques insectes...
DESCRIPTION:Attention ! Le lieu de de rendez-vous est différent du lieu d’animation !
URL:https://sosforetdordogne.fr/evenement/vieilles-forets-et-quelques-insectes
LOCATION:Chateau de Marzac à Tursac\, 21 avenue de la Forge\, LES EYZIES\, 24620\, France
ORGANIZER;CN="Collectif Transition en P%C3%A9rigord Noir":MAILTO:ctpn@courriel.bio
END:VEVENT
BEGIN:VEVENT
DTSTART;TZID=UTC:20260515T190000
DTEND;TZID=UTC:20260516T190000
DTSTAMP:20260424T162144
CREATED:20260422T091800Z
LAST-MODIFIED:20260422T092046Z
UID:6418-1778871600-1778958000@sosforetdordogne.fr
SUMMARY:Fête de l'ortie à Ajat : SOS Forêt Dordogne y sera aussi !
DESCRIPTION:  \n \n  \n \n  \nEn savoir plus sur F’Ortie’ch
URL:https://sosforetdordogne.fr/evenement/fete-de-lortie-a-ajat-sos-foret-dordogne-y-sera-aussi
LOCATION:Létankikour\, Lieu dit Les Gounissoux\, AJAT\, 24210\, France
END:VEVENT
END:VCALENDAR